BEGIN:VCALENDAR
VERSION:2.0
PRODID:-//The Ridge Golf Club - ECPv5.4.0.1//NONSGML v1.0//EN
CALSCALE:GREGORIAN
METHOD:PUBLISH
X-WR-CALNAME:The Ridge Golf Club
X-ORIGINAL-URL:https://www.siouxcenterridge.com
X-WR-CALDESC:Events for The Ridge Golf Club
BEGIN:VTIMEZONE
TZID:America/Chicago
BEGIN:DAYLIGHT
TZOFFSETFROM:-0600
TZOFFSETTO:-0500
TZNAME:CDT
DTSTART:20260308T080000
END:DAYLIGHT
BEGIN:STANDARD
TZOFFSETFROM:-0500
TZOFFSETTO:-0600
TZNAME:CST
DTSTART:20261101T070000
END:STANDARD
END:VTIMEZONE
BEGIN:VEVENT
DTSTART;TZID=America/Chicago:20261011T120000
DTEND;TZID=America/Chicago:20261011T170000
DTSTAMP:20260424T074628
CREATED:20260402T173201Z
LAST-MODIFIED:20260402T173202Z
UID:14732-1791720000-1791738000@www.siouxcenterridge.com
SUMMARY:THE RIDGE CHILI OPEN
DESCRIPTION:
URL:https://www.siouxcenterridge.com/event/the-ridge-chili-open-5/
CATEGORIES:Ridge Golf Tourney
END:VEVENT
END:VCALENDAR