BEGIN:VCALENDAR
VERSION:2.0
PRODID:-//The Ridge Golf Club - ECPv5.4.0.1//NONSGML v1.0//EN
CALSCALE:GREGORIAN
METHOD:PUBLISH
X-WR-CALNAME:The Ridge Golf Club
X-ORIGINAL-URL:https://www.siouxcenterridge.com
X-WR-CALDESC:Events for The Ridge Golf Club
BEGIN:VTIMEZONE
TZID:America/Chicago
BEGIN:DAYLIGHT
TZOFFSETFROM:-0600
TZOFFSETTO:-0500
TZNAME:CDT
DTSTART:20250309T080000
END:DAYLIGHT
BEGIN:STANDARD
TZOFFSETFROM:-0500
TZOFFSETTO:-0600
TZNAME:CST
DTSTART:20251102T070000
END:STANDARD
END:VTIMEZONE
BEGIN:VEVENT
DTSTART;TZID=America/Chicago:20251002T170000
DTEND;TZID=America/Chicago:20251002T200000
DTSTAMP:20260425T053351
CREATED:20250407T184604Z
LAST-MODIFIED:20250407T184604Z
UID:13736-1759424400-1759435200@www.siouxcenterridge.com
SUMMARY:PGA Hope Play Day
DESCRIPTION:
URL:https://www.siouxcenterridge.com/event/pga-hope-play-day/
ATTACH;FMTTYPE=image/jpeg:https://www.siouxcenterridge.com/wp-content/uploads/2025/04/PGA-Hope-Logo.jpg
END:VEVENT
END:VCALENDAR