BEGIN:VCALENDAR
VERSION:2.0
PRODID:-//The Ridge Golf Club - ECPv5.4.0.1//NONSGML v1.0//EN
CALSCALE:GREGORIAN
METHOD:PUBLISH
X-WR-CALNAME:The Ridge Golf Club
X-ORIGINAL-URL:https://www.siouxcenterridge.com
X-WR-CALDESC:Events for The Ridge Golf Club
BEGIN:VTIMEZONE
TZID:America/Chicago
BEGIN:DAYLIGHT
TZOFFSETFROM:-0600
TZOFFSETTO:-0500
TZNAME:CDT
DTSTART:20250309T080000
END:DAYLIGHT
BEGIN:STANDARD
TZOFFSETFROM:-0500
TZOFFSETTO:-0600
TZNAME:CST
DTSTART:20251102T070000
END:STANDARD
END:VTIMEZONE
BEGIN:VEVENT
DTSTART;TZID=America/Chicago:20250423T170000
DTEND;TZID=America/Chicago:20250423T210000
DTSTAMP:20260425T071729
CREATED:20241116T193256Z
LAST-MODIFIED:20241116T193256Z
UID:13250-1745427600-1745442000@www.siouxcenterridge.com
SUMMARY:Navarrete's Mexican Night
DESCRIPTION:
URL:https://www.siouxcenterridge.com/event/navarretes-mexican-night-10/
CATEGORIES:Event Hall
ATTACH;FMTTYPE=image/jpeg:https://www.siouxcenterridge.com/wp-content/uploads/2024/11/Navarretes.jpg
END:VEVENT
END:VCALENDAR