BEGIN:VCALENDAR
VERSION:2.0
PRODID:-//The Ridge Golf Club - ECPv5.4.0.1//NONSGML v1.0//EN
CALSCALE:GREGORIAN
METHOD:PUBLISH
X-WR-CALNAME:The Ridge Golf Club
X-ORIGINAL-URL:https://www.siouxcenterridge.com
X-WR-CALDESC:Events for The Ridge Golf Club
BEGIN:VTIMEZONE
TZID:America/Chicago
BEGIN:DAYLIGHT
TZOFFSETFROM:-0600
TZOFFSETTO:-0500
TZNAME:CDT
DTSTART:20250309T080000
END:DAYLIGHT
BEGIN:STANDARD
TZOFFSETFROM:-0500
TZOFFSETTO:-0600
TZNAME:CST
DTSTART:20251102T070000
END:STANDARD
END:VTIMEZONE
BEGIN:VEVENT
DTSTART;TZID=America/Chicago:20250717T160000
DTEND;TZID=America/Chicago:20250717T183000
DTSTAMP:20260424T214011
CREATED:20241127T145311Z
LAST-MODIFIED:20241127T145311Z
UID:13465-1752768000-1752777000@www.siouxcenterridge.com
SUMMARY:Ladies League
DESCRIPTION:
URL:https://www.siouxcenterridge.com/event/ladies-league-67/
CATEGORIES:Golf League
END:VEVENT
END:VCALENDAR