BEGIN:VCALENDAR
VERSION:2.0
PRODID:-//The Ridge Golf Club - ECPv5.4.0.1//NONSGML v1.0//EN
CALSCALE:GREGORIAN
METHOD:PUBLISH
X-WR-CALNAME:The Ridge Golf Club
X-ORIGINAL-URL:https://www.siouxcenterridge.com
X-WR-CALDESC:Events for The Ridge Golf Club
BEGIN:VTIMEZONE
TZID:America/Chicago
BEGIN:DAYLIGHT
TZOFFSETFROM:-0600
TZOFFSETTO:-0500
TZNAME:CDT
DTSTART:20260308T080000
END:DAYLIGHT
BEGIN:STANDARD
TZOFFSETFROM:-0500
TZOFFSETTO:-0600
TZNAME:CST
DTSTART:20261101T070000
END:STANDARD
END:VTIMEZONE
BEGIN:VEVENT
DTSTART;TZID=America/Chicago:20260709T180000
DTEND;TZID=America/Chicago:20260709T210000
DTSTAMP:20260424T031406
CREATED:20260402T152315Z
LAST-MODIFIED:20260402T152316Z
UID:14508-1783620000-1783630800@www.siouxcenterridge.com
SUMMARY:GOLDEN DERBY LIL WISPY & FLATSTICK TEAM COMPETITIONS
DESCRIPTION:
URL:https://www.siouxcenterridge.com/event/golden-derby-lil-wispy-flatstick-team-competitions/
CATEGORIES:Ridge Golf Tourney
ATTACH;FMTTYPE=image/png:https://www.siouxcenterridge.com/wp-content/uploads/2021/02/Ridge-Fescue.png
END:VEVENT
END:VCALENDAR