BEGIN:VCALENDAR
VERSION:2.0
PRODID:-//The Ridge Golf Club - ECPv5.4.0.1//NONSGML v1.0//EN
CALSCALE:GREGORIAN
METHOD:PUBLISH
X-WR-CALNAME:The Ridge Golf Club
X-ORIGINAL-URL:https://www.siouxcenterridge.com
X-WR-CALDESC:Events for The Ridge Golf Club
BEGIN:VTIMEZONE
TZID:America/Chicago
BEGIN:DAYLIGHT
TZOFFSETFROM:-0600
TZOFFSETTO:-0500
TZNAME:CDT
DTSTART:20260308T080000
END:DAYLIGHT
BEGIN:STANDARD
TZOFFSETFROM:-0500
TZOFFSETTO:-0600
TZNAME:CST
DTSTART:20261101T070000
END:STANDARD
END:VTIMEZONE
BEGIN:VEVENT
DTSTART;TZID=America/Chicago:20260214T190000
DTEND;TZID=America/Chicago:20260214T220000
DTSTAMP:20260424T015605
CREATED:20251206T171917Z
LAST-MODIFIED:20251206T171917Z
UID:13992-1771095600-1771106400@www.siouxcenterridge.com
SUMMARY:BINGO - hosted by All Kids Can
DESCRIPTION:
URL:https://www.siouxcenterridge.com/event/bingo-hosted-by-all-kids-can-2/
CATEGORIES:Event Hall
END:VEVENT
END:VCALENDAR