BEGIN:VCALENDAR
VERSION:2.0
PRODID:-//The Ridge Golf Club - ECPv5.4.0.1//NONSGML v1.0//EN
CALSCALE:GREGORIAN
METHOD:PUBLISH
X-WR-CALNAME:The Ridge Golf Club
X-ORIGINAL-URL:https://www.siouxcenterridge.com
X-WR-CALDESC:Events for The Ridge Golf Club
BEGIN:VTIMEZONE
TZID:America/Chicago
BEGIN:DAYLIGHT
TZOFFSETFROM:-0600
TZOFFSETTO:-0500
TZNAME:CDT
DTSTART:20260308T080000
END:DAYLIGHT
BEGIN:STANDARD
TZOFFSETFROM:-0500
TZOFFSETTO:-0600
TZNAME:CST
DTSTART:20261101T070000
END:STANDARD
END:VTIMEZONE
BEGIN:VEVENT
DTSTART;TZID=America/Chicago:20260812T123000
DTEND;TZID=America/Chicago:20260812T133000
DTSTAMP:20260424T091053
CREATED:20260402T160701Z
LAST-MODIFIED:20260402T160701Z
UID:14627-1786537800-1786541400@www.siouxcenterridge.com
SUMMARY:18 HOLE LEAGUE
DESCRIPTION:
URL:https://www.siouxcenterridge.com/event/18-hole-league-43/
CATEGORIES:Golf League
END:VEVENT
END:VCALENDAR